BEGIN:VCALENDAR
VERSION:2.0
PRODID:-//St Joseph&#039;s Barraba - ECPv4.5.13//NONSGML v1.0//EN
CALSCALE:GREGORIAN
METHOD:PUBLISH
X-WR-CALNAME:St Joseph&#039;s Barraba
X-ORIGINAL-URL:https://stjosephsbarraba.catholic.edu.au
X-WR-CALDESC:Events for St Joseph&#039;s Barraba
BEGIN:VEVENT
DTSTART;TZID=UTC+0:20180613T080000
DTEND;TZID=UTC+0:20180613T170000
DTSTAMP:20200301T224249
CREATED:20180501T150152Z
LAST-MODIFIED:20180501T150152Z
UID:567-1528876800-1528909200@stjosephsbarraba.catholic.edu.au
SUMMARY:Year 6 Religion Test
DESCRIPTION:
URL:https://stjosephsbarraba.catholic.edu.au/event/year-6-religion-test/
END:VEVENT
END:VCALENDAR