BEGIN:VCALENDAR
VERSION:2.0
PRODID:-//St Joseph&#039;s Barraba - ECPv4.5.13//NONSGML v1.0//EN
CALSCALE:GREGORIAN
METHOD:PUBLISH
X-WR-CALNAME:St Joseph&#039;s Barraba
X-ORIGINAL-URL:https://stjosephsbarraba.catholic.edu.au
X-WR-CALDESC:Events for St Joseph&#039;s Barraba
BEGIN:VEVENT
DTSTART;VALUE=DATE:20190613
DTEND;VALUE=DATE:20190613
DTSTAMP:20200301T223200
CREATED:20190506T164327Z
LAST-MODIFIED:20190506T164327Z
UID:1215-1560384000-1560470399@stjosephsbarraba.catholic.edu.au
SUMMARY:Year 6 RE Test
DESCRIPTION:
URL:https://stjosephsbarraba.catholic.edu.au/event/year-6-re-test/
END:VEVENT
END:VCALENDAR