BEGIN:VCALENDAR
VERSION:2.0
PRODID:-//St Joseph&#039;s Barraba - ECPv4.5.13//NONSGML v1.0//EN
CALSCALE:GREGORIAN
METHOD:PUBLISH
X-WR-CALNAME:St Joseph&#039;s Barraba
X-ORIGINAL-URL:https://stjosephsbarraba.catholic.edu.au
X-WR-CALDESC:Events for St Joseph&#039;s Barraba
BEGIN:VEVENT
DTSTART;TZID=UTC+0:20180511T100000
DTEND;TZID=UTC+0:20180511T110000
DTSTAMP:20200301T224207
CREATED:20180501T172807Z
LAST-MODIFIED:20180501T172807Z
UID:571-1526032800-1526036400@stjosephsbarraba.catholic.edu.au
SUMMARY:School Mass
DESCRIPTION:Led By Year5/6 \n
URL:https://stjosephsbarraba.catholic.edu.au/event/school-mass/
END:VEVENT
END:VCALENDAR