BEGIN:VCALENDAR
VERSION:2.0
PRODID:-//St Joseph&#039;s Barraba - ECPv4.5.13//NONSGML v1.0//EN
CALSCALE:GREGORIAN
METHOD:PUBLISH
X-WR-CALNAME:St Joseph&#039;s Barraba
X-ORIGINAL-URL:https://stjosephsbarraba.catholic.edu.au
X-WR-CALDESC:Events for St Joseph&#039;s Barraba
BEGIN:VEVENT
DTSTART;TZID=UTC+0:20180622T100000
DTEND;TZID=UTC+0:20180622T110000
DTSTAMP:20200301T224027
CREATED:20180501T173028Z
LAST-MODIFIED:20180501T173028Z
UID:575-1529661600-1529665200@stjosephsbarraba.catholic.edu.au
SUMMARY:School Mass
DESCRIPTION:Led By K/1/2 \n
URL:https://stjosephsbarraba.catholic.edu.au/event/school-mass-3/
END:VEVENT
END:VCALENDAR