BEGIN:VCALENDAR
VERSION:2.0
PRODID:-//St Joseph&#039;s Barraba - ECPv4.5.13//NONSGML v1.0//EN
CALSCALE:GREGORIAN
METHOD:PUBLISH
X-WR-CALNAME:St Joseph&#039;s Barraba
X-ORIGINAL-URL:https://stjosephsbarraba.catholic.edu.au
X-WR-CALDESC:Events for St Joseph&#039;s Barraba
BEGIN:VEVENT
DTSTART;VALUE=DATE:20190809
DTEND;VALUE=DATE:20190809
DTSTAMP:20200301T222750
CREATED:20190701T145153Z
LAST-MODIFIED:20190701T145153Z
UID:2322-1565308800-1565395199@stjosephsbarraba.catholic.edu.au
SUMMARY:School Athletics Day
DESCRIPTION:
URL:https://stjosephsbarraba.catholic.edu.au/event/school-athletics-day/
END:VEVENT
END:VCALENDAR