BEGIN:VCALENDAR
VERSION:2.0
PRODID:-//St Joseph&#039;s Barraba - ECPv4.5.13//NONSGML v1.0//EN
CALSCALE:GREGORIAN
METHOD:PUBLISH
X-WR-CALNAME:St Joseph&#039;s Barraba
X-ORIGINAL-URL:https://stjosephsbarraba.catholic.edu.au
X-WR-CALDESC:Events for St Joseph&#039;s Barraba
BEGIN:VEVENT
DTSTART;TZID=UTC+0:20190528T090000
DTEND;TZID=UTC+0:20190528T113000
DTSTAMP:20200301T223244
CREATED:20190506T164232Z
LAST-MODIFIED:20190506T164232Z
UID:1212-1559034000-1559043000@stjosephsbarraba.catholic.edu.au
SUMMARY:Open Day
DESCRIPTION:
URL:https://stjosephsbarraba.catholic.edu.au/event/open-day/
LOCATION:60 Fitzroy St\, Barraba\, NSW\, 2347\, Austria
END:VEVENT
END:VCALENDAR