BEGIN:VCALENDAR
VERSION:2.0
PRODID:-//St Joseph&#039;s Barraba - ECPv4.5.13//NONSGML v1.0//EN
CALSCALE:GREGORIAN
METHOD:PUBLISH
X-WR-CALNAME:St Joseph&#039;s Barraba
X-ORIGINAL-URL:https://stjosephsbarraba.catholic.edu.au
X-WR-CALDESC:Events for St Joseph&#039;s Barraba
BEGIN:VEVENT
DTSTART;VALUE=DATE:20190705
DTEND;VALUE=DATE:20190705
DTSTAMP:20200301T222842
CREATED:20190506T164719Z
LAST-MODIFIED:20190617T154853Z
UID:1221-1562284800-1562371199@stjosephsbarraba.catholic.edu.au
SUMMARY:Frost Over Barraba / Last day of term
DESCRIPTION:
URL:https://stjosephsbarraba.catholic.edu.au/event/last-day-of-term/
END:VEVENT
END:VCALENDAR