BEGIN:VCALENDAR
VERSION:2.0
PRODID:-//St Joseph&#039;s Barraba - ECPv4.5.13//NONSGML v1.0//EN
CALSCALE:GREGORIAN
METHOD:PUBLISH
X-WR-CALNAME:St Joseph&#039;s Barraba
X-ORIGINAL-URL:https://stjosephsbarraba.catholic.edu.au
X-WR-CALDESC:Events for St Joseph&#039;s Barraba
BEGIN:VEVENT
DTSTART;VALUE=DATE:20190621
DTEND;VALUE=DATE:20190621
DTSTAMP:20200301T223020
CREATED:20190506T164646Z
LAST-MODIFIED:20190506T164646Z
UID:1219-1561075200-1561161599@stjosephsbarraba.catholic.edu.au
SUMMARY:Diocesan Rugby Trials
DESCRIPTION:
URL:https://stjosephsbarraba.catholic.edu.au/event/diocesan-rugby-trials-2/
END:VEVENT
END:VCALENDAR